BEGIN:VCALENDAR
VERSION:2.0
PRODID:-//Salem 400 - ECPv6.15.20//NONSGML v1.0//EN
CALSCALE:GREGORIAN
METHOD:PUBLISH
X-WR-CALNAME:Salem 400
X-ORIGINAL-URL:https://www.salem400.org
X-WR-CALDESC:Events for Salem 400
REFRESH-INTERVAL;VALUE=DURATION:PT1H
X-Robots-Tag:noindex
X-PUBLISHED-TTL:PT1H
BEGIN:VTIMEZONE
TZID:America/New_York
BEGIN:DAYLIGHT
TZOFFSETFROM:-0500
TZOFFSETTO:-0400
TZNAME:EDT
DTSTART:20240310T070000
END:DAYLIGHT
BEGIN:STANDARD
TZOFFSETFROM:-0400
TZOFFSETTO:-0500
TZNAME:EST
DTSTART:20241103T060000
END:STANDARD
BEGIN:DAYLIGHT
TZOFFSETFROM:-0500
TZOFFSETTO:-0400
TZNAME:EDT
DTSTART:20250309T070000
END:DAYLIGHT
BEGIN:STANDARD
TZOFFSETFROM:-0400
TZOFFSETTO:-0500
TZNAME:EST
DTSTART:20251102T060000
END:STANDARD
BEGIN:DAYLIGHT
TZOFFSETFROM:-0500
TZOFFSETTO:-0400
TZNAME:EDT
DTSTART:20260308T070000
END:DAYLIGHT
BEGIN:STANDARD
TZOFFSETFROM:-0400
TZOFFSETTO:-0500
TZNAME:EST
DTSTART:20261101T060000
END:STANDARD
BEGIN:DAYLIGHT
TZOFFSETFROM:-0500
TZOFFSETTO:-0400
TZNAME:EDT
DTSTART:20270314T070000
END:DAYLIGHT
BEGIN:STANDARD
TZOFFSETFROM:-0400
TZOFFSETTO:-0500
TZNAME:EST
DTSTART:20271107T060000
END:STANDARD
END:VTIMEZONE
BEGIN:VEVENT
DTSTART;TZID=America/New_York:20260412T130000
DTEND;TZID=America/New_York:20260412T160000
DTSTAMP:20260420T195040
CREATED:20260311T152515Z
LAST-MODIFIED:20260311T152515Z
UID:10020944-1775998800-1776009600@www.salem400.org
SUMMARY:Salem Kicks Gas: A North Shore Electric Vehicle Expo
DESCRIPTION:Want to kick some gas? Do you want to make Salem’s future greener? \nCome to Salem’s 3rd annual Electric Vehicle Expo! See\, ride\, and drive plug-in hybrids and battery-electric vehicles. Come together to find out how YOU can contribute to Salem’s sustainability and resiliency in a big way! Purchasing an EV is a HUGE step towards decarbonization\, but many people don’t know where to start.  \nLocal EV dealerships and car owners\, as well as bicycle shops and electric bike/scooter owners\, will be showcasing their rides. Bring a helmet! Battery-powered outdoor equipment will also be featured. Come ride or drive with us! \nThis event is weather dependant\, check back here the day of the event for any special weather announcements!  \nFood will be available for purchase and beverages provided. Bring your reusable water bottle!
URL:https://www.salem400.org/event/salem-kicks-gas-a-north-shore-electric-vehicle-expo/
LOCATION:Salem High School\, 77 Wilson St.\, Salem\, MA\, 01970\, United States
ATTACH;FMTTYPE=image/jpeg:https://www.salem400.org/wp-content/uploads/2026/03/Heinkel-Kabine-Crop-1.jpg
ORGANIZER;CN="City of Salem":MAILTO:vcherol@salem.com
END:VEVENT
BEGIN:VEVENT
DTSTART;TZID=America/New_York:20260110T140000
DTEND;TZID=America/New_York:20260110T170000
DTSTAMP:20260420T195040
CREATED:20241218T190245Z
LAST-MODIFIED:20260203T174805Z
UID:10000011-1768053600-1768064400@www.salem400.org
SUMMARY:Salem 400+ Kickoff Festival and Volunteer Fair
DESCRIPTION:If you are an organization that relies on Volunteers\, please sign up to be a ‘vendor’ at the Volunteer Fair here! \nCelebrate Salem’s 400th Anniversary\nBe part of history as we kick off Salem’s quadricentennial celebration! This community volunteer fair brings together residents and local organizations\, creating connections that will help write Salem’s next 400 years. \nWe’re thrilled to invite you and your entire family to join us for an incredible FREE celebration as we launch Salem 400+!\nSalem 400+ Kickoff and Volunteer Fair\nWHEN: January 10\, 2-5pm\nWHERE: Salem High School\, 77 Willson Street\, Salem\, MA \nWhy You Won’t Want to Miss This!\n🎉 Completely FREE Admission – No tickets\, no fees\, just come and celebrate with us!\n🍴 Delicious Food – We’re providing complimentary food throughout the event inspired by Salem’s 400+ years\, curated by the CTE Culinary Arts Program!\n❄️ Winter Entertainment – Enjoy activities that celebrate the season and bring our community together.\n👨‍👩‍👧‍👦 Kids Area – Your children will have a blast with a dedicated area.\n🎁 Silent Auction – Bid on amazing items and experiences from local businesses and community partners. All proceeds support Salem 400+!\n🤝 Volunteer Fair – Meet dozens of local organizations and discover the perfect opportunity to give back to our community. \nGet Involved in Salem’s Historic Celebration\nSalem 400+ marks a significant milestone in our city’s history\, celebrating Salem’s founding and its enduring legacy. This commemoration will feature events\, programs\, and initiatives that honor our past while building toward our future – and it all starts with this kickoff event!\nWhether you have an hour a week or want to dive deep into community service\, you’ll find organizations at our Volunteer Fair that align with your passions and allow you to make a real difference in Salem. \nBring Everyone You Know!\nThis is more than just a kickoff event – it’s a celebration of our community\, our history\, and our future together. Mark your calendars for THE event of the season. With free admission\, great food\, winter entertainment\, activities for kids\, a silent auction\, AND a chance to give back to our community – what more could you ask for?\nWe want to see the whole community there!
URL:https://www.salem400.org/event/volunteer-fair/
LOCATION:Salem High School\, 77 Wilson St.\, Salem\, MA\, 01970\, United States
ATTACH;FMTTYPE=image/png:https://www.salem400.org/wp-content/uploads/2024/12/11x-8.5-Volunteer-Kickoff-11-x-8.5-in.png
ORGANIZER;CN="City of Salem":MAILTO:vcherol@salem.com
END:VEVENT
BEGIN:VEVENT
DTSTART;TZID=America/New_York:20250407T173000
DTEND;TZID=America/New_York:20250407T190000
DTSTAMP:20260420T195040
CREATED:20250310T160144Z
LAST-MODIFIED:20250310T160144Z
UID:10000014-1744047000-1744052400@www.salem400.org
SUMMARY:Salem 400+ Public Information Session
DESCRIPTION:This informational session will offer community members insights into the Salem 400+ initiative. It will cover upcoming events\, opportunities for involvement\, ways to support this vital community project\, and much more!
URL:https://www.salem400.org/event/salem-400-public-information-session/
LOCATION:Salem High School\, 77 Wilson St.\, Salem\, MA\, 01970\, United States
END:VEVENT
END:VCALENDAR