BEGIN:VCALENDAR
VERSION:2.0
PRODID:-//Salem 400 - ECPv6.15.20//NONSGML v1.0//EN
CALSCALE:GREGORIAN
METHOD:PUBLISH
X-ORIGINAL-URL:https://www.salem400.org
X-WR-CALDESC:Events for Salem 400
REFRESH-INTERVAL;VALUE=DURATION:PT1H
X-Robots-Tag:noindex
X-PUBLISHED-TTL:PT1H
BEGIN:VTIMEZONE
TZID:America/New_York
BEGIN:DAYLIGHT
TZOFFSETFROM:-0500
TZOFFSETTO:-0400
TZNAME:EDT
DTSTART:20250309T070000
END:DAYLIGHT
BEGIN:STANDARD
TZOFFSETFROM:-0400
TZOFFSETTO:-0500
TZNAME:EST
DTSTART:20251102T060000
END:STANDARD
BEGIN:DAYLIGHT
TZOFFSETFROM:-0500
TZOFFSETTO:-0400
TZNAME:EDT
DTSTART:20260308T070000
END:DAYLIGHT
BEGIN:STANDARD
TZOFFSETFROM:-0400
TZOFFSETTO:-0500
TZNAME:EST
DTSTART:20261101T060000
END:STANDARD
BEGIN:DAYLIGHT
TZOFFSETFROM:-0500
TZOFFSETTO:-0400
TZNAME:EDT
DTSTART:20270314T070000
END:DAYLIGHT
BEGIN:STANDARD
TZOFFSETFROM:-0400
TZOFFSETTO:-0500
TZNAME:EST
DTSTART:20271107T060000
END:STANDARD
END:VTIMEZONE
BEGIN:VEVENT
DTSTART;TZID=America/New_York:20260501T110000
DTEND;TZID=America/New_York:20260501T120000
DTSTAMP:20260421T044613
CREATED:20260331T162550Z
LAST-MODIFIED:20260331T163017Z
UID:10020959-1777633200-1777636800@www.salem400.org
SUMMARY:Polish Constitution Day
DESCRIPTION:Join us in raising the Polish Flag to celebrate Polish Constitution Day! We will gather at Riley Plaza for flag raising and speakers.
URL:https://www.salem400.org/event/polish-constitution-day/
LOCATION:Riley Plaza\, 1-21 Margin St\, Salem\, MA\, 01970\, United States
ORGANIZER;CN="City of Salem":MAILTO:vcherol@salem.com
END:VEVENT
BEGIN:VEVENT
DTSTART;TZID=America/New_York:20260515T110000
DTEND;TZID=America/New_York:20260515T120000
DTSTAMP:20260421T044613
CREATED:20260331T163245Z
LAST-MODIFIED:20260331T172846Z
UID:10020960-1778842800-1778846400@www.salem400.org
SUMMARY:Asian American and Pacific Islander Heritage Month
DESCRIPTION:Join us in raisng Flags of Asian and Pacific Island nations to celebrate AAPI Month!
URL:https://www.salem400.org/event/asian-american-and-pacific-islander-heritage-month/
LOCATION:Riley Plaza\, 1-21 Margin St\, Salem\, MA\, 01970\, United States
ATTACH;FMTTYPE=image/jpeg:https://www.salem400.org/wp-content/uploads/2026/03/CityofSalemAAPIflagrasing2023photosbyCreativeCollective-7390-scaled-1.jpg
ORGANIZER;CN="City of Salem":MAILTO:vcherol@salem.com
END:VEVENT
BEGIN:VEVENT
DTSTART;TZID=America/New_York:20260615T130000
DTEND;TZID=America/New_York:20260615T140000
DTSTAMP:20260421T044613
CREATED:20260331T173542Z
LAST-MODIFIED:20260331T173542Z
UID:10020962-1781528400-1781532000@www.salem400.org
SUMMARY:Juneteenth Flag Raising
DESCRIPTION:Join us in raising the Juneteenth flag!
URL:https://www.salem400.org/event/juneteenth-flag-raising/
LOCATION:Riley Plaza\, 1-21 Margin St\, Salem\, MA\, 01970\, United States
ORGANIZER;CN="City of Salem":MAILTO:vcherol@salem.com
END:VEVENT
BEGIN:VEVENT
DTSTART;TZID=America/New_York:20260915T120000
DTEND;TZID=America/New_York:20260915T130000
DTSTAMP:20260421T044613
CREATED:20260331T173843Z
LAST-MODIFIED:20260331T173843Z
UID:10020964-1789473600-1789477200@www.salem400.org
SUMMARY:Hispanic Heritage Month Flag Raising
DESCRIPTION:Join us in raising the flags of Hispanic Nations for Hispanic Heritage Month!
URL:https://www.salem400.org/event/hispanic-heritage-month-flag-raising/
LOCATION:Riley Plaza\, 1-21 Margin St\, Salem\, MA\, 01970\, United States
ORGANIZER;CN="City of Salem":MAILTO:vcherol@salem.com
END:VEVENT
BEGIN:VEVENT
DTSTART;TZID=America/New_York:20261001T170000
DTEND;TZID=America/New_York:20261001T180000
DTSTAMP:20260421T044613
CREATED:20260331T174031Z
LAST-MODIFIED:20260331T174031Z
UID:10020965-1790874000-1790877600@www.salem400.org
SUMMARY:Italian Heritage Month Flag Raising
DESCRIPTION:Join us in raising the Italian flag to celebrate Italian Heritage Month!
URL:https://www.salem400.org/event/italian-heritage-month-flag-raising/
LOCATION:Riley Plaza\, 1-21 Margin St\, Salem\, MA\, 01970\, United States
ORGANIZER;CN="City of Salem":MAILTO:vcherol@salem.com
END:VEVENT
BEGIN:VEVENT
DTSTART;TZID=America/New_York:20261125T120000
DTEND;TZID=America/New_York:20261125T130000
DTSTAMP:20260421T044613
CREATED:20260331T174344Z
LAST-MODIFIED:20260331T174344Z
UID:10020967-1795608000-1795611600@www.salem400.org
SUMMARY:Albanian Independence Day Flag Raising
DESCRIPTION:Join us in raising the Albanian flag to celebrate Albanian Independence Day!
URL:https://www.salem400.org/event/albanian-independence-day-flag-raising/
LOCATION:Riley Plaza\, 1-21 Margin St\, Salem\, MA\, 01970\, United States
ORGANIZER;CN="City of Salem":MAILTO:vcherol@salem.com
END:VEVENT
END:VCALENDAR