BEGIN:VCALENDAR
VERSION:2.0
PRODID:-//Salem 400 - ECPv6.15.20//NONSGML v1.0//EN
CALSCALE:GREGORIAN
METHOD:PUBLISH
X-ORIGINAL-URL:https://www.salem400.org
X-WR-CALDESC:Events for Salem 400
REFRESH-INTERVAL;VALUE=DURATION:PT1H
X-Robots-Tag:noindex
X-PUBLISHED-TTL:PT1H
BEGIN:VTIMEZONE
TZID:America/New_York
BEGIN:DAYLIGHT
TZOFFSETFROM:-0500
TZOFFSETTO:-0400
TZNAME:EDT
DTSTART:20250309T070000
END:DAYLIGHT
BEGIN:STANDARD
TZOFFSETFROM:-0400
TZOFFSETTO:-0500
TZNAME:EST
DTSTART:20251102T060000
END:STANDARD
BEGIN:DAYLIGHT
TZOFFSETFROM:-0500
TZOFFSETTO:-0400
TZNAME:EDT
DTSTART:20260308T070000
END:DAYLIGHT
BEGIN:STANDARD
TZOFFSETFROM:-0400
TZOFFSETTO:-0500
TZNAME:EST
DTSTART:20261101T060000
END:STANDARD
BEGIN:DAYLIGHT
TZOFFSETFROM:-0500
TZOFFSETTO:-0400
TZNAME:EDT
DTSTART:20270314T070000
END:DAYLIGHT
BEGIN:STANDARD
TZOFFSETFROM:-0400
TZOFFSETTO:-0500
TZNAME:EST
DTSTART:20271107T060000
END:STANDARD
END:VTIMEZONE
BEGIN:VEVENT
DTSTART;TZID=America/New_York:20260429T183000
DTEND;TZID=America/New_York:20260429T193000
DTSTAMP:20260422T130147
CREATED:20260326T152651Z
LAST-MODIFIED:20260326T153353Z
UID:10020956-1777487400-1777491000@www.salem400.org
SUMMARY:"General John Glover: Unsung Hero of the Revolution" Lecture and Performance
DESCRIPTION:Join us for a memorable evening of music\, history\, and conversation celebrating the life\, military service\, and lasting legacy of one of the American Revolution’s most celebrated — and often overlooked — figures.  \nThe evening kicks off with a rousing performance by Scurvy Fellows Indeed\, a spirited crew of 18th-century privateers who will entertain with rollicking sea chanteys — audience sing-along strongly encouraged! \nHistorian Robert Booth then takes us through the compelling story of John Glover\, who was born in Salem and raised in nearby Marblehead\, used his maritime roots and family ties to shape his path to becoming a Revolutionary War hero. \nHe is followed by Larry Sands — Captain of Glover’s Marblehead Regiment — who brings Glover’s battlefield career to life with a lively overview of his major engagements and accomplishments.\nNancy Lusignan Schultz\, Chair of the Swampscott Historical Commission and President of Save the Glover! Inc.\, rounds out the presentations with the latest news on the ongoing effort to preserve General Glover’s historic farmhouse. \nThis program is part of the Conflict & Community: Salem\, Essex County\, and the American Revolution lecture series. This series is a partnership between Essex Heritage and Salem Maritime National Historical Park and highlights the unique role of Essex County communities during the American Revolution.
URL:https://www.salem400.org/event/general-john-glover-unsung-hero-of-the-revolution-lecture-and-performance/
LOCATION:National Park Service Salem Armory Visitor Center\, 2 New Liberty Street\, Salem\, MA\, 01970\, United States
ATTACH;FMTTYPE=image/jpeg:https://www.salem400.org/wp-content/uploads/2026/03/Washington-Crossing-the-Delaware.jpg
ORGANIZER;CN="Essex National Heritage":MAILTO:vcherol@salem.com
END:VEVENT
BEGIN:VEVENT
DTSTART;TZID=America/New_York:20260521T183000
DTEND;TZID=America/New_York:20260522T193000
DTSTAMP:20260422T130147
CREATED:20260408T142150Z
LAST-MODIFIED:20260408T142822Z
UID:10020971-1779388200-1779478200@www.salem400.org
SUMMARY:"The Fisherman's Cause: Atlantic Commerce and Maritime Dimensions of the American Revolution" Lecture
DESCRIPTION:As the nation marks the 250th anniversary of American independence\, join us for Conflict & Community: Salem\, Essex County\, and the American Revolution — a dynamic series of programs exploring the American Revolution — its many perspectives\, lived experiences\, and lasting legacies. This series brings together a range of voices and experts to examine the Revolution from multiple angles. Programs will take a variety of formats including lectures\, panel discussions\, living history presentations\, and more.\nChristopher Magra\, Professor of History at the University of Tennessee\, will present “The Fisherman’s Cause: Atlantic Commerce and Maritime Dimensions of the American Revolution.” This lecture\, based on his 2007 book by the same name\, will explore the maritime roots of the Revolution.
URL:https://www.salem400.org/event/the-fishermans-cause-atlantic-commerce-and-maritime-dimensions-of-the-american-revolution-lecture/
LOCATION:National Park Service Salem Armory Visitor Center\, 2 New Liberty Street\, Salem\, MA\, 01970\, United States
ATTACH;FMTTYPE=image/png:https://www.salem400.org/wp-content/uploads/2026/04/Screenshot-2026-04-08-102003.png
ORGANIZER;CN="Salem Maritime National Historical Park":MAILTO:vcherol@salem.com
END:VEVENT
END:VCALENDAR