BEGIN:VCALENDAR
VERSION:2.0
PRODID:-//Salem 400 - ECPv6.15.20//NONSGML v1.0//EN
CALSCALE:GREGORIAN
METHOD:PUBLISH
X-WR-CALNAME:Salem 400
X-ORIGINAL-URL:https://www.salem400.org
X-WR-CALDESC:Events for Salem 400
REFRESH-INTERVAL;VALUE=DURATION:PT1H
X-Robots-Tag:noindex
X-PUBLISHED-TTL:PT1H
BEGIN:VTIMEZONE
TZID:America/New_York
BEGIN:DAYLIGHT
TZOFFSETFROM:-0500
TZOFFSETTO:-0400
TZNAME:EDT
DTSTART:20250309T070000
END:DAYLIGHT
BEGIN:STANDARD
TZOFFSETFROM:-0400
TZOFFSETTO:-0500
TZNAME:EST
DTSTART:20251102T060000
END:STANDARD
BEGIN:DAYLIGHT
TZOFFSETFROM:-0500
TZOFFSETTO:-0400
TZNAME:EDT
DTSTART:20260308T070000
END:DAYLIGHT
BEGIN:STANDARD
TZOFFSETFROM:-0400
TZOFFSETTO:-0500
TZNAME:EST
DTSTART:20261101T060000
END:STANDARD
BEGIN:DAYLIGHT
TZOFFSETFROM:-0500
TZOFFSETTO:-0400
TZNAME:EDT
DTSTART:20270314T070000
END:DAYLIGHT
BEGIN:STANDARD
TZOFFSETFROM:-0400
TZOFFSETTO:-0500
TZNAME:EST
DTSTART:20271107T060000
END:STANDARD
END:VTIMEZONE
BEGIN:VEVENT
DTSTART;TZID=America/New_York:20260523T100000
DTEND;TZID=America/New_York:20260523T120000
DTSTAMP:20260421T025440
CREATED:20260305T134248Z
LAST-MODIFIED:20260305T134248Z
UID:10020941-1779530400-1779537600@www.salem400.org
SUMMARY:Curator Talk - Salem as Muse: Lucy Cleveland\, Author and Textile Artist
DESCRIPTION:In 2026\, as part of the Salem 400+ initiative\, PEM will present “Salem as Muse\,” a series of talks that highlight works represented in PEM’s collection. These programs will explore a diverse range of subjects that connect to the unique history and character of Salem\, Massachusetts.  \nCurator-at-Large Paula Richter will give a presentation centered on Lucy Cleveland: textile artist\, children’s book author\, 19th-century reformer and abolitionist. Born in Salem in 1780\, Cleveland traveled to China and Indonesia with her husband\, a sea captain\, and published more than a dozen books. One of her artworks is on display in Salem Stories. \nIncluded with Admission. Salem residents and people who work in Salem receive free general admission upon presentation of a business card or employee ID at the admissions desk; preregistration encouraged. \nAbout our presenter: Paula Richter\nSince 2009\, Paula Richter has been responsible for curatorial research and support of the museum’s changing exhibition program\, related publications and core activities within the curatorial department. She has participated on exhibition teams for more than a dozen recent and upcoming exhibitions and numerous gallery installations and rotations\, including The Salem Witch Trials 1692. She previously worked for the Cape Ann Historical Association\, the Sargent House Museum and Landmark College. A graduate of the University of New Hampshire\, Richter writes and lectures on American textiles and fashion and New England art and decorative arts. She also leads PEM’s partnership with Handwork 2026\, presented by Craft in America. \nThis curator talk will be in Morse Auditorium from 10:00 am – noon.\nIncluded with Admission. Salem residents and people who work in Salem receive free general admission upon presentation of a business card or employee ID at the admissions desk; preregistration encouraged. \nRegister Here!
URL:https://www.salem400.org/event/curator-talk-salem-as-muse-lucy-cleveland-author-and-textile-artist/
LOCATION:Peabody Essex Museum\, 161 Essex St.\, Salem\, MA\, 01970\, United States
ATTACH;FMTTYPE=image/jpeg:https://www.salem400.org/wp-content/uploads/2026/03/Ev_SalemasMuseLucy_1600_SplitHero.jpg
ORGANIZER;CN="Peabody Essex Museum":MAILTO:vcherol@salem.com
END:VEVENT
END:VCALENDAR