BEGIN:VCALENDAR
VERSION:2.0
PRODID:-//Salem 400 - ECPv6.15.20//NONSGML v1.0//EN
CALSCALE:GREGORIAN
METHOD:PUBLISH
X-WR-CALNAME:Salem 400
X-ORIGINAL-URL:https://www.salem400.org
X-WR-CALDESC:Events for Salem 400
REFRESH-INTERVAL;VALUE=DURATION:PT1H
X-Robots-Tag:noindex
X-PUBLISHED-TTL:PT1H
BEGIN:VTIMEZONE
TZID:America/New_York
BEGIN:DAYLIGHT
TZOFFSETFROM:-0500
TZOFFSETTO:-0400
TZNAME:EDT
DTSTART:20250309T070000
END:DAYLIGHT
BEGIN:STANDARD
TZOFFSETFROM:-0400
TZOFFSETTO:-0500
TZNAME:EST
DTSTART:20251102T060000
END:STANDARD
BEGIN:DAYLIGHT
TZOFFSETFROM:-0500
TZOFFSETTO:-0400
TZNAME:EDT
DTSTART:20260308T070000
END:DAYLIGHT
BEGIN:STANDARD
TZOFFSETFROM:-0400
TZOFFSETTO:-0500
TZNAME:EST
DTSTART:20261101T060000
END:STANDARD
BEGIN:DAYLIGHT
TZOFFSETFROM:-0500
TZOFFSETTO:-0400
TZNAME:EDT
DTSTART:20270314T070000
END:DAYLIGHT
BEGIN:STANDARD
TZOFFSETFROM:-0400
TZOFFSETTO:-0500
TZNAME:EST
DTSTART:20271107T060000
END:STANDARD
END:VTIMEZONE
BEGIN:VEVENT
DTSTART;TZID=America/New_York:20260327T083000
DTEND;TZID=America/New_York:20260327T100000
DTSTAMP:20260421T045637
CREATED:20260210T171818Z
LAST-MODIFIED:20260210T172102Z
UID:10020928-1774600200-1774605600@www.salem400.org
SUMMARY:Lynn Swampscott DAV Chapter 64 Annual Vietnam Veterans Breakfast and Ceremony
DESCRIPTION:The Lynn Swampscott DAV Chapter 64 Annual Vietnam Veterans Breakfast and Ceremony is dedicated to honoring local veterans who served during the Vietnam War. The event provides space for recognition\, reflection\, and gratitude\, bringing veterans\, elected officials\, community leaders\, and residents together in a respectful and welcoming setting. The breakfast includes remarks from invited public officials and a veteran guest speaker\, along with time for informal conversation and connection. The event is free and open to the public\, with a focus on ensuring Vietnam veterans feel seen\, valued\, and appreciated for their service\, many of whom returned home without the recognition afforded to other generations. \nThe Vietnam Veterans Breakfast hosted by Lynn Swampscott DAV Chapter 64 supports Salem 400+’s commitment to Commemoration and Recognition by honoring  Salem’s local veterans whose service is part of the region’s lived history. Many Vietnam veterans built their lives in Salem before and after their military service. Their experiences reflect the city’s long relationship with national service\, sacrifice\, and civic responsibility. By publicly acknowledging Vietnam veterans in a community setting\, the breakfast contributes to a more complete and inclusive understanding of Salem’s past and present.  \nThe breakfast aligns with Salem 400+’s goal of Community and Civic Engagement by creating a space where Salem’s residents\, veterans\, local leaders\, and elected officials come together around shared responsibility and respect. It encourages participation across generations and backgrounds and reinforces the idea that civic life includes honoring service and listening to those who have served. The event is intentionally accessible. It reflects the tradition of community gatherings that strengthen connection\, foster dialogue\, and affirm the ongoing commitment to those who have contributed to its civic life. \nRegistration is required\, please register here.
URL:https://www.salem400.org/event/lynn-swampscott-dav-chapter-64-annual-vietnam-veterans-breakfast-and-ceremony/
LOCATION:Swampscott Senior Center\, 200R Essex Street\, Swampscott\, MA\, 01907\, United States
ATTACH;FMTTYPE=image/jpeg:https://www.salem400.org/wp-content/uploads/2026/02/2026-1.jpg
ORGANIZER;CN="Disabled American Vetrans":MAILTO:e_f_gilmore_dav_chapter64@yahoo.com
END:VEVENT
END:VCALENDAR