BEGIN:VCALENDAR
VERSION:2.0
PRODID:-//Salem 400 - ECPv6.15.20//NONSGML v1.0//EN
CALSCALE:GREGORIAN
METHOD:PUBLISH
X-WR-CALNAME:Salem 400
X-ORIGINAL-URL:https://www.salem400.org
X-WR-CALDESC:Events for Salem 400
REFRESH-INTERVAL;VALUE=DURATION:PT1H
X-Robots-Tag:noindex
X-PUBLISHED-TTL:PT1H
BEGIN:VTIMEZONE
TZID:America/New_York
BEGIN:DAYLIGHT
TZOFFSETFROM:-0500
TZOFFSETTO:-0400
TZNAME:EDT
DTSTART:20250309T070000
END:DAYLIGHT
BEGIN:STANDARD
TZOFFSETFROM:-0400
TZOFFSETTO:-0500
TZNAME:EST
DTSTART:20251102T060000
END:STANDARD
BEGIN:DAYLIGHT
TZOFFSETFROM:-0500
TZOFFSETTO:-0400
TZNAME:EDT
DTSTART:20260308T070000
END:DAYLIGHT
BEGIN:STANDARD
TZOFFSETFROM:-0400
TZOFFSETTO:-0500
TZNAME:EST
DTSTART:20261101T060000
END:STANDARD
BEGIN:DAYLIGHT
TZOFFSETFROM:-0500
TZOFFSETTO:-0400
TZNAME:EDT
DTSTART:20270314T070000
END:DAYLIGHT
BEGIN:STANDARD
TZOFFSETFROM:-0400
TZOFFSETTO:-0500
TZNAME:EST
DTSTART:20271107T060000
END:STANDARD
END:VTIMEZONE
BEGIN:VEVENT
DTSTART;TZID=America/New_York:20260919T100000
DTEND;TZID=America/New_York:20260919T130000
DTSTAMP:20260422T143439
CREATED:20251110T201724Z
LAST-MODIFIED:20251110T201724Z
UID:10000031-1789812000-1789822800@www.salem400.org
SUMMARY:Book Swap
DESCRIPTION:Come to the beloved Salem Book Swap! More information coming soon!  \n        \n            \n                \n                Add to Calendar\n                \n                    \n                \n            \n            \n                                    \n                        \n                            Google Calendar\n                        \n                    \n                                    \n                        \n                            iCalendar\n                        \n                    \n                                    \n                        \n                            Outlook 365\n                        \n                    \n                                    \n                        \n                            Outlook Live
URL:https://www.salem400.org/event/book-swap/2026-09-19/
LOCATION:Mayor Jean A. Levesque Community Life Center\, 401 Bridge St.\, Salem\, MA\, 01970\, United States
ATTACH;FMTTYPE=image/jpeg:https://www.salem400.org/wp-content/uploads/2025/11/Book-Swap.jpg
END:VEVENT
END:VCALENDAR