BEGIN:VCALENDAR
VERSION:2.0
PRODID:-//Salem 400 - ECPv6.15.20//NONSGML v1.0//EN
CALSCALE:GREGORIAN
METHOD:PUBLISH
X-WR-CALNAME:Salem 400
X-ORIGINAL-URL:https://www.salem400.org
X-WR-CALDESC:Events for Salem 400
REFRESH-INTERVAL;VALUE=DURATION:PT1H
X-Robots-Tag:noindex
X-PUBLISHED-TTL:PT1H
BEGIN:VTIMEZONE
TZID:America/New_York
BEGIN:DAYLIGHT
TZOFFSETFROM:-0500
TZOFFSETTO:-0400
TZNAME:EDT
DTSTART:20250309T070000
END:DAYLIGHT
BEGIN:STANDARD
TZOFFSETFROM:-0400
TZOFFSETTO:-0500
TZNAME:EST
DTSTART:20251102T060000
END:STANDARD
BEGIN:DAYLIGHT
TZOFFSETFROM:-0500
TZOFFSETTO:-0400
TZNAME:EDT
DTSTART:20260308T070000
END:DAYLIGHT
BEGIN:STANDARD
TZOFFSETFROM:-0400
TZOFFSETTO:-0500
TZNAME:EST
DTSTART:20261101T060000
END:STANDARD
BEGIN:DAYLIGHT
TZOFFSETFROM:-0500
TZOFFSETTO:-0400
TZNAME:EDT
DTSTART:20270314T070000
END:DAYLIGHT
BEGIN:STANDARD
TZOFFSETFROM:-0400
TZOFFSETTO:-0500
TZNAME:EST
DTSTART:20271107T060000
END:STANDARD
END:VTIMEZONE
BEGIN:VEVENT
DTSTART;VALUE=DATE:20260605
DTEND;VALUE=DATE:20260608
DTSTAMP:20260422T125005
CREATED:20260209T211314Z
LAST-MODIFIED:20260210T151116Z
UID:10020905-1780617600-1780876799@www.salem400.org
SUMMARY:Salem Arts Fest
DESCRIPTION:The Salem Arts Festival promotes the arts in downtown Salem through a collaborative multidisciplinary festival\, highlighting the existing artist community and encouraging general community participation in the arts. The Festival runs annually through the first full weekend of June in a combination of indoor and (primarily) outdoor venues\, and typically features a gallery with 40-50 visual artists\, live mural slam\, 60+ live performances (involving 300+ performers)\, artisan street fair (70+ vendors)\, a collaborative public art installation\, and numerous interactive arts activities. \nSalem400+ themes will be incorporated into the design of the annual community art project\, Salem 400-inspired designs will be featured for the mural slam\, and there will be a retrospective of a well-established Salem artist in the Old Town Hall gallery! \n        \n            \n                \n                Add to Calendar\n                \n                    \n                \n            \n            \n                                    \n                        \n                            Google Calendar\n                        \n                    \n                                    \n                        \n                            iCalendar\n                        \n                    \n                                    \n                        \n                            Outlook 365\n                        \n                    \n                                    \n                        \n                            Outlook Live
URL:https://www.salem400.org/event/salem-arts-fest/
LOCATION:Downtown Salem
ATTACH;FMTTYPE=image/jpeg:https://www.salem400.org/wp-content/uploads/2026/02/SalemArtsFestival2019SaturdayPhotosbyCreativeCollective-5259-RESIZED-scaled-1.jpg
ORGANIZER;CN="Salem Main Streets":MAILTO:kylie@salemmainstreets.org
END:VEVENT
BEGIN:VEVENT
DTSTART;TZID=America/New_York:20260606T100000
DTEND;TZID=America/New_York:20260606T100000
DTSTAMP:20260422T125005
CREATED:20260323T125658Z
LAST-MODIFIED:20260323T183035Z
UID:10020952-1780740000-1780740000@www.salem400.org
SUMMARY:Historic New England's Annual Open House
DESCRIPTION:The annual Open House is day that all Historic New England properties are open to the public\, free of charge. During Open House\, guests interact with tour guides and hear the stories of the people and events that make each of our 38 properties unique. In Salem\, Historic New England operates Phillips House and Gedney House. Phillips House is the only mansion open to the public on Chestnut Street. Here\, we tell the story of five generations of a prominent Salem family\, and talk about the changing lives at the turn of the 20th century. Gedney House is one of the oldest houses in Salem\, and one of only two still standing that has a connection to the Witch Trials of 1692. Gedney House is a unique architectural gem that illustrates 17th century building practices and architectural change over time. During Open House\, everyone is welcome to join us to learn more about these special places. \nBoth properties provide different insights into the lives of people living in Salem from the 17th century through the 20th century. During the visit\, guests learn about the people behind some of the history’s biggest moments – from Mary Gedney\, a widow operating her own tavern during the 1692 Witch Trials\, to Stephen and Anna Phillips\, who were both members of long lines of Salem sea-faring and political families in the 20th century. We invite guests to ask questions\, be in the spaces\, and learn more about the everyday history of New Englanders. Neighbors are always welcome at Historic New England sites\, with town residents receiving free entry to properties in their communities for regular tours (additional fees apply for special events and programs). \nVisitors are welcome any time throughout the day at both sites. Please note that entry to both Phillips House and Gedney House requires stairs to enter and to view the houses in their entirety.
URL:https://www.salem400.org/event/historic-new-englands-annual-open-house/
LOCATION:Phillips House\, 34 Chestnut Street\, Salem\, MA\, 01970\, United States
ATTACH;FMTTYPE=image/jpeg:https://www.salem400.org/wp-content/uploads/2026/03/HNE-WhY-scaled.jpg
END:VEVENT
BEGIN:VEVENT
DTSTART;TZID=America/New_York:20260610T100000
DTEND;TZID=America/New_York:20260610T103000
DTSTAMP:20260422T125005
CREATED:20250919T134231Z
LAST-MODIFIED:20250922T165428Z
UID:10000024-1781085600-1781087400@www.salem400.org
SUMMARY:Remembering Bridget
DESCRIPTION:“You can tell a lot about a community by the way they treat their dead.” On the morning of June 10th\, 1692\, one woman met the hangman’s noose. It was the point of no return in the Salem Witchcraft Hysteria. Her name was Bridget Bishop. \nPreviously accused in 1680\, she was the only victim not executed in a group. Remembering her as a fellow human being is crucial to understanding the madness that ensued. Join us in person at the Salem Witch Trials Memorial on Charter Street on June 10th at 10 am for a commemoration of the 334th anniversary of the death of the first victim of the 1692 Salem Witchcraft Hysteria. The short remembrance will honor this wronged woman – who was also a domestic abuse survivor – and acknowledge all victims and survivors of abuse\, prejudice\, and ignorance – past and present. This will include 17th-century poems\, floral tributes\, and information about Bridget’s life.  \nFlowers donated by Voices Against Injustice will be available for the public to place tributes on the memorial stones of their choice. The remembrance will be live-streamed and available for replay via Instagram @creativecollectivema and @thepetticoatpages1693
URL:https://www.salem400.org/event/remembering-bridget/
LOCATION:Witch Trials Memorial\, 24 Liberty Street\, Salem\, MA\, 01970
ATTACH;FMTTYPE=image/jpeg:https://www.salem400.org/wp-content/uploads/2025/09/20250919_100541-scaled.jpg
END:VEVENT
BEGIN:VEVENT
DTSTART;VALUE=DATE:20260611
DTEND;VALUE=DATE:20260612
DTSTAMP:20260422T125005
CREATED:20251215T174933Z
LAST-MODIFIED:20260204T140427Z
UID:10000046-1781136000-1781222399@www.salem400.org
SUMMARY:Opening Day of Food at 400+ Exhibit at Old Town Hall
DESCRIPTION:Opening Day of Food at 400+\n	June 11th \n	Food at 400+ will explore Salem’s history through the lens of food\, fishing\, farming\, spice trades\, as well as culinary\, hospitality\, and related aspects\, in creative and experiential ways. This family-friendly event\, presented by Salem Food Tours\, will also share current and future challenges related to food inclusivity and our changing environment and celebrate Salem’s headship in this area. Please visit event website for full programming listing and descriptions here.
URL:https://www.salem400.org/event/opening-day-of-food-at-400-at-old-town-hall/
LOCATION:Old Town Hall\, 32 Derby Square\, Salem\, MA\, 01970\, United States
ATTACH;FMTTYPE=image/jpeg:https://www.salem400.org/wp-content/uploads/2025/12/foodat400.jpg
END:VEVENT
BEGIN:VEVENT
DTSTART;TZID=America/New_York:20260615T130000
DTEND;TZID=America/New_York:20260615T140000
DTSTAMP:20260422T125005
CREATED:20260331T173542Z
LAST-MODIFIED:20260331T173542Z
UID:10020962-1781528400-1781532000@www.salem400.org
SUMMARY:Juneteenth Flag Raising
DESCRIPTION:Join us in raising the Juneteenth flag!
URL:https://www.salem400.org/event/juneteenth-flag-raising/
LOCATION:Riley Plaza\, 1-21 Margin St\, Salem\, MA\, 01970\, United States
ORGANIZER;CN="City of Salem":MAILTO:vcherol@salem.com
END:VEVENT
BEGIN:VEVENT
DTSTART;TZID=America/New_York:20260619T110000
DTEND;TZID=America/New_York:20260619T140000
DTSTAMP:20260422T125005
CREATED:20260217T163812Z
LAST-MODIFIED:20260217T163812Z
UID:10020930-1781866800-1781877600@www.salem400.org
SUMMARY:Salem 400+ Juneteenth Jam
DESCRIPTION:Join the City of Salem in celebrating Juneteenth!
URL:https://www.salem400.org/event/salem-400-juneteenth-jam/
LOCATION:Charlotte Forten Park\, 289 Derby Street\, Salem\, MA\, 01970\, United States
ORGANIZER;CN="City of Salem":MAILTO:vcherol@salem.com
END:VEVENT
BEGIN:VEVENT
DTSTART;VALUE=DATE:20260622
DTEND;VALUE=DATE:20260623
DTSTAMP:20260422T125005
CREATED:20251215T175049Z
LAST-MODIFIED:20251215T175049Z
UID:10000047-1782086400-1782172799@www.salem400.org
SUMMARY:Closing Day of Food at 400+ at Old Town Hall
DESCRIPTION:Last day! Do not miss this!  \nFood at 400+ website and info coming soon \nFood at 400+ will explore Salem’s history through the lens of food\, fishing\, farming\, spice trades\, as well as culinary\, hospitality\, and related aspects\, in creative and experiential ways. This family-friendly event will also share current and future challenges related to food inclusivity and our changing environment and celebrate Salem’s headship in this area.
URL:https://www.salem400.org/event/closing-day-of-food-at-400-at-old-town-hall/
LOCATION:Old Town Hall\, 32 Derby Square\, Salem\, MA\, 01970\, United States
END:VEVENT
END:VCALENDAR