BEGIN:VCALENDAR
VERSION:2.0
PRODID:-//Salem 400 - ECPv6.15.20//NONSGML v1.0//EN
CALSCALE:GREGORIAN
METHOD:PUBLISH
X-WR-CALNAME:Salem 400
X-ORIGINAL-URL:https://www.salem400.org
X-WR-CALDESC:Events for Salem 400
REFRESH-INTERVAL;VALUE=DURATION:PT1H
X-Robots-Tag:noindex
X-PUBLISHED-TTL:PT1H
BEGIN:VTIMEZONE
TZID:America/New_York
BEGIN:DAYLIGHT
TZOFFSETFROM:-0500
TZOFFSETTO:-0400
TZNAME:EDT
DTSTART:20250309T070000
END:DAYLIGHT
BEGIN:STANDARD
TZOFFSETFROM:-0400
TZOFFSETTO:-0500
TZNAME:EST
DTSTART:20251102T060000
END:STANDARD
BEGIN:DAYLIGHT
TZOFFSETFROM:-0500
TZOFFSETTO:-0400
TZNAME:EDT
DTSTART:20260308T070000
END:DAYLIGHT
BEGIN:STANDARD
TZOFFSETFROM:-0400
TZOFFSETTO:-0500
TZNAME:EST
DTSTART:20261101T060000
END:STANDARD
BEGIN:DAYLIGHT
TZOFFSETFROM:-0500
TZOFFSETTO:-0400
TZNAME:EDT
DTSTART:20270314T070000
END:DAYLIGHT
BEGIN:STANDARD
TZOFFSETFROM:-0400
TZOFFSETTO:-0500
TZNAME:EST
DTSTART:20271107T060000
END:STANDARD
END:VTIMEZONE
BEGIN:VEVENT
DTSTART;TZID=America/New_York:20260509T130000
DTEND;TZID=America/New_York:20260509T150000
DTSTAMP:20260422T074146
CREATED:20260417T162924Z
LAST-MODIFIED:20260417T162924Z
UID:2156-1778331600-1778338800@www.salem400.org
SUMMARY:Washington Square Historic District Walking Tour
DESCRIPTION:May 9th 1pm-3pm – Walking Tour of Washington Square District\nHosted by the Salem Historical Commission as part of Salem 400+. Join Historical Commission Chair Vijay Joyce\, owner of Rekindled History\, for a tour of Washington Square surrounding the Salem Common to view some of the finest Federal era architecture in the nation. Tour will begin in front of the Salem Common Bandstand\, built for Salem’s 300th anniversary. Tour is free but space is limited\, please register by calling the Planning Department at 978-619-5685 or email pkelleher@salem.com.
URL:https://www.salem400.org/event/washington-square-historic-district-walking-tour/
LOCATION:Salem Common\, N. Washington Square\, Salem\, MA\, 01970\, United States
ATTACH;FMTTYPE=image/jpeg:https://www.salem400.org/wp-content/uploads/2026/04/Historic-Waterfront-Bike-Tour-scaled.jpg
ORGANIZER;CN="City of Salem":MAILTO:vcherol@salem.com
END:VEVENT
END:VCALENDAR