BEGIN:VCALENDAR
VERSION:2.0
PRODID:-//Salem 400 - ECPv6.15.20//NONSGML v1.0//EN
CALSCALE:GREGORIAN
METHOD:PUBLISH
X-WR-CALNAME:Salem 400
X-ORIGINAL-URL:https://www.salem400.org
X-WR-CALDESC:Events for Salem 400
REFRESH-INTERVAL;VALUE=DURATION:PT1H
X-Robots-Tag:noindex
X-PUBLISHED-TTL:PT1H
BEGIN:VTIMEZONE
TZID:America/New_York
BEGIN:DAYLIGHT
TZOFFSETFROM:-0500
TZOFFSETTO:-0400
TZNAME:EDT
DTSTART:20250309T070000
END:DAYLIGHT
BEGIN:STANDARD
TZOFFSETFROM:-0400
TZOFFSETTO:-0500
TZNAME:EST
DTSTART:20251102T060000
END:STANDARD
BEGIN:DAYLIGHT
TZOFFSETFROM:-0500
TZOFFSETTO:-0400
TZNAME:EDT
DTSTART:20260308T070000
END:DAYLIGHT
BEGIN:STANDARD
TZOFFSETFROM:-0400
TZOFFSETTO:-0500
TZNAME:EST
DTSTART:20261101T060000
END:STANDARD
BEGIN:DAYLIGHT
TZOFFSETFROM:-0500
TZOFFSETTO:-0400
TZNAME:EDT
DTSTART:20270314T070000
END:DAYLIGHT
BEGIN:STANDARD
TZOFFSETFROM:-0400
TZOFFSETTO:-0500
TZNAME:EST
DTSTART:20271107T060000
END:STANDARD
END:VTIMEZONE
BEGIN:VEVENT
DTSTART;VALUE=DATE:20260206
DTEND;VALUE=DATE:20260209
DTSTAMP:20260422T144719
CREATED:20260115T143319Z
LAST-MODIFIED:20260204T140057Z
UID:1502-1770336000-1770595199@www.salem400.org
SUMMARY:Salem's So Sweet
DESCRIPTION:Salem Main Streets and the Salem Chamber of Commerce invite you to come enjoy the annual Salem’s So Sweet Chocolate & Ice Sculpture Festival – a decadent tradition of delectable chocolate\, sparkling ice sculptures\, and Valentine’s Day shopping! Now in its 24th year\, the festival’s signature elements include a Friday night kickoff party\, 25 ice sculptures scattered throughout downtown\, two nights of illuminated sculptures\, a “Chocolate Hearts” game with prizes\, live music\, and sweet specials and promotions at local shops and restaurants throughout the city. \nFor Salem’s special 400th year\, the festival will also be commemorating and celebrating the anniversary of the first long-distance telephone call (made right here in Salem!) with special activities\, including a phone booth for recording your Salem love story and a large-scale game of “Telephone”. \nPlease note\, the ice sculptures last as long as the weather allows.
URL:https://www.salem400.org/event/salems-so-sweet/
LOCATION:Downtown Salem
ATTACH;FMTTYPE=image/jpeg:https://www.salem400.org/wp-content/uploads/2026/01/Salems-So-Sweet-Ice-Sculptures-by-John-ANdrews_0078-scaled-1.jpg
ORGANIZER;CN="Salem Main Streets":MAILTO:kylie@salemmainstreets.org
END:VEVENT
END:VCALENDAR