BEGIN:VCALENDAR
VERSION:2.0
PRODID:-//Salem 400 - ECPv6.15.20//NONSGML v1.0//EN
CALSCALE:GREGORIAN
METHOD:PUBLISH
X-WR-CALNAME:Salem 400
X-ORIGINAL-URL:https://www.salem400.org
X-WR-CALDESC:Events for Salem 400
REFRESH-INTERVAL;VALUE=DURATION:PT1H
X-Robots-Tag:noindex
X-PUBLISHED-TTL:PT1H
BEGIN:VTIMEZONE
TZID:America/New_York
BEGIN:DAYLIGHT
TZOFFSETFROM:-0500
TZOFFSETTO:-0400
TZNAME:EDT
DTSTART:20250309T070000
END:DAYLIGHT
BEGIN:STANDARD
TZOFFSETFROM:-0400
TZOFFSETTO:-0500
TZNAME:EST
DTSTART:20251102T060000
END:STANDARD
BEGIN:DAYLIGHT
TZOFFSETFROM:-0500
TZOFFSETTO:-0400
TZNAME:EDT
DTSTART:20260308T070000
END:DAYLIGHT
BEGIN:STANDARD
TZOFFSETFROM:-0400
TZOFFSETTO:-0500
TZNAME:EST
DTSTART:20261101T060000
END:STANDARD
BEGIN:DAYLIGHT
TZOFFSETFROM:-0500
TZOFFSETTO:-0400
TZNAME:EDT
DTSTART:20270314T070000
END:DAYLIGHT
BEGIN:STANDARD
TZOFFSETFROM:-0400
TZOFFSETTO:-0500
TZNAME:EST
DTSTART:20271107T060000
END:STANDARD
END:VTIMEZONE
BEGIN:VEVENT
DTSTART;TZID=America/New_York:20260201T160000
DTEND;TZID=America/New_York:20260201T173000
DTSTAMP:20260422T144530
CREATED:20250610T185455Z
LAST-MODIFIED:20260128T140750Z
UID:1129-1769961600-1769967000@www.salem400.org
SUMMARY:Salem's Centuries
DESCRIPTION:This event has been rescheduled due to weather.  The event is sold out! \nJoin Salem State University’s history professors Donna Seger and Brad Austin for a fascinating talk about their brand- new book\, “Salem’s Centuries: New Perspectives on the History of an Old American City.” Drs. Seger and Austin will discuss some of their favorite stories from Salem’s 400+ years of history and share what it was like researching and writing about the city they love. This event is free to the public\, with the option of purchasing the book from Salem’s own Wicked Good Books. \nRegistration is required for this event\, once registration opens it will be here. Registration is NOT currently open. Please check back soon to register! \n 
URL:https://www.salem400.org/event/salems-centuries/
LOCATION:Hamilton Hall\, 9 Chestnut Street\, Salem\, MA\, 01970\, United States
END:VEVENT
END:VCALENDAR