BEGIN:VCALENDAR
VERSION:2.0
PRODID:-//Salem 400 - ECPv6.15.20//NONSGML v1.0//EN
CALSCALE:GREGORIAN
METHOD:PUBLISH
X-WR-CALNAME:Salem 400
X-ORIGINAL-URL:https://www.salem400.org
X-WR-CALDESC:Events for Salem 400
REFRESH-INTERVAL;VALUE=DURATION:PT1H
X-Robots-Tag:noindex
X-PUBLISHED-TTL:PT1H
BEGIN:VTIMEZONE
TZID:America/New_York
BEGIN:DAYLIGHT
TZOFFSETFROM:-0500
TZOFFSETTO:-0400
TZNAME:EDT
DTSTART:20250309T070000
END:DAYLIGHT
BEGIN:STANDARD
TZOFFSETFROM:-0400
TZOFFSETTO:-0500
TZNAME:EST
DTSTART:20251102T060000
END:STANDARD
BEGIN:DAYLIGHT
TZOFFSETFROM:-0500
TZOFFSETTO:-0400
TZNAME:EDT
DTSTART:20260308T070000
END:DAYLIGHT
BEGIN:STANDARD
TZOFFSETFROM:-0400
TZOFFSETTO:-0500
TZNAME:EST
DTSTART:20261101T060000
END:STANDARD
BEGIN:DAYLIGHT
TZOFFSETFROM:-0500
TZOFFSETTO:-0400
TZNAME:EDT
DTSTART:20270314T070000
END:DAYLIGHT
BEGIN:STANDARD
TZOFFSETFROM:-0400
TZOFFSETTO:-0500
TZNAME:EST
DTSTART:20271107T060000
END:STANDARD
END:VTIMEZONE
BEGIN:VEVENT
DTSTART;TZID=America/New_York:20260208T130000
DTEND;TZID=America/New_York:20260208T150000
DTSTAMP:20260422T144917
CREATED:20251218T134506Z
LAST-MODIFIED:20260204T133940Z
UID:1381-1770555600-1770562800@www.salem400.org
SUMMARY:Salem So Sweet Valentine Making & Scavenger Hunt
DESCRIPTION:Did you know that America’s oldest commercial candy was created and sold right here in Salem?  Come to a wonderful\, fun family event co-sponsored by The House of the Seven Gables and the City of Salem’s Park\, Recreation and Community Services Department. Come learn about the sweet connection between candy\, Salem and the House of Seven Gables! \nAll children must be accompanied by an adult.  \nDate: Sunday\, February 8\, 2026\nTime: 1:00-3:00 P.M.\nPlace: The House of the Seven Gables \nOur Valentine event will include:\n* An outdoor scavenger hunt featuring chocolate facts and historical facts about The House of the Seven Gables. As this will be outdoors\, please dress accordingly.\n* Free ground passes to the historic site.\n* A Valentine’s workshop with local artist in The Gables’ Visitor Center. Come make a valentine card for someone special. Please note that the workshop will be held from 1:00-2:30pm.\n* Hot chocolate and cookies will be served. \nIn celebration of Salem’s 400+\, we will have pre-cut hearts available and ask participants to write something that they love about Salem on the heart.  We are hoping to get 400 hearts filled up that will help us create a display celebrating Salem’s quadricentennial. \nThis is a free event; however\, pre-registration is encouraged in order to have enough supplies.
URL:https://www.salem400.org/event/salem-so-sweet-valentine-making-scavenger-hunt/
LOCATION:House of Seven Gables\, 115 Derby Street\, Salem\, MA\, 01970\, United States
END:VEVENT
END:VCALENDAR