BEGIN:VCALENDAR
VERSION:2.0
PRODID:-//Salem 400 - ECPv6.15.20//NONSGML v1.0//EN
CALSCALE:GREGORIAN
METHOD:PUBLISH
X-WR-CALNAME:Salem 400
X-ORIGINAL-URL:https://www.salem400.org
X-WR-CALDESC:Events for Salem 400
REFRESH-INTERVAL;VALUE=DURATION:PT1H
X-Robots-Tag:noindex
X-PUBLISHED-TTL:PT1H
BEGIN:VTIMEZONE
TZID:America/New_York
BEGIN:DAYLIGHT
TZOFFSETFROM:-0500
TZOFFSETTO:-0400
TZNAME:EDT
DTSTART:20250309T070000
END:DAYLIGHT
BEGIN:STANDARD
TZOFFSETFROM:-0400
TZOFFSETTO:-0500
TZNAME:EST
DTSTART:20251102T060000
END:STANDARD
BEGIN:DAYLIGHT
TZOFFSETFROM:-0500
TZOFFSETTO:-0400
TZNAME:EDT
DTSTART:20260308T070000
END:DAYLIGHT
BEGIN:STANDARD
TZOFFSETFROM:-0400
TZOFFSETTO:-0500
TZNAME:EST
DTSTART:20261101T060000
END:STANDARD
BEGIN:DAYLIGHT
TZOFFSETFROM:-0500
TZOFFSETTO:-0400
TZNAME:EDT
DTSTART:20270314T070000
END:DAYLIGHT
BEGIN:STANDARD
TZOFFSETFROM:-0400
TZOFFSETTO:-0500
TZNAME:EST
DTSTART:20271107T060000
END:STANDARD
END:VTIMEZONE
BEGIN:VEVENT
DTSTART;TZID=America/New_York:20260803T200000
DTEND;TZID=America/New_York:20260803T210000
DTSTAMP:20260422T180146
CREATED:20260129T195411Z
LAST-MODIFIED:20260129T195841Z
UID:1567-1785787200-1785790800@www.salem400.org
SUMMARY:Mary Easty: Her Life\, Execution and Enduring Legacy
DESCRIPTION:Mary Estey’s story is often overshadowed by her sister\, Rebecca Nurse\, in the history of the 1692 Salem Witch Trials. This presentation will encompass Mary’s life from her humble beginnings in Great Yarmouth\, her family life\, border disputes\, through to her execution and her courage in the face of all that was stacked against her. Presented by Nurse Homestead volunteer Mary Louise Bingham\, a descendant of Mary Estey. \nPlease email mary.bingham@endwitchhunts.org to receive the Google link invitation and any further instructions.
URL:https://www.salem400.org/event/mary-easty-her-life-execution-and-enduring-legacy/
ATTACH;FMTTYPE=image/jpeg:https://www.salem400.org/wp-content/uploads/2026/01/mary-esty.jpg
ORGANIZER;CN="Mary Bingham":MAILTO:mary.bingham@endwitchhunts.org
LOCATION:https://www.salem400.org/event/mary-easty-her-life-execution-and-enduring-legacy/
END:VEVENT
END:VCALENDAR