BEGIN:VCALENDAR
VERSION:2.0
PRODID:-//Salem 400 - ECPv6.15.20//NONSGML v1.0//EN
CALSCALE:GREGORIAN
METHOD:PUBLISH
X-WR-CALNAME:Salem 400
X-ORIGINAL-URL:https://www.salem400.org
X-WR-CALDESC:Events for Salem 400
REFRESH-INTERVAL;VALUE=DURATION:PT1H
X-Robots-Tag:noindex
X-PUBLISHED-TTL:PT1H
BEGIN:VTIMEZONE
TZID:America/New_York
BEGIN:DAYLIGHT
TZOFFSETFROM:-0500
TZOFFSETTO:-0400
TZNAME:EDT
DTSTART:20250309T070000
END:DAYLIGHT
BEGIN:STANDARD
TZOFFSETFROM:-0400
TZOFFSETTO:-0500
TZNAME:EST
DTSTART:20251102T060000
END:STANDARD
BEGIN:DAYLIGHT
TZOFFSETFROM:-0500
TZOFFSETTO:-0400
TZNAME:EDT
DTSTART:20260308T070000
END:DAYLIGHT
BEGIN:STANDARD
TZOFFSETFROM:-0400
TZOFFSETTO:-0500
TZNAME:EST
DTSTART:20261101T060000
END:STANDARD
BEGIN:DAYLIGHT
TZOFFSETFROM:-0500
TZOFFSETTO:-0400
TZNAME:EDT
DTSTART:20270314T070000
END:DAYLIGHT
BEGIN:STANDARD
TZOFFSETFROM:-0400
TZOFFSETTO:-0500
TZNAME:EST
DTSTART:20271107T060000
END:STANDARD
END:VTIMEZONE
BEGIN:VEVENT
DTSTART;TZID=America/New_York:20261008T170000
DTEND;TZID=America/New_York:20261008T180000
DTSTAMP:20260422T193038
CREATED:20260331T174155Z
LAST-MODIFIED:20260331T174155Z
UID:2040-1791478800-1791482400@www.salem400.org
SUMMARY:Indigenous People's Day Flag Raising
DESCRIPTION:Join us in raising the Massachusett tribe flag to celebrate Indigenous People’s Day.
URL:https://www.salem400.org/event/indigenous-peoples-day-flag-raising/
LOCATION:City Hall Council Chambers\, 93 Washington Street\, SALEM\, MA\, 01970\, United States
ORGANIZER;CN="City of Salem":MAILTO:vcherol@salem.com
END:VEVENT
END:VCALENDAR