BEGIN:VCALENDAR
VERSION:2.0
PRODID:-//Salem 400 - ECPv6.15.20//NONSGML v1.0//EN
CALSCALE:GREGORIAN
METHOD:PUBLISH
X-WR-CALNAME:Salem 400
X-ORIGINAL-URL:https://www.salem400.org
X-WR-CALDESC:Events for Salem 400
REFRESH-INTERVAL;VALUE=DURATION:PT1H
X-Robots-Tag:noindex
X-PUBLISHED-TTL:PT1H
BEGIN:VTIMEZONE
TZID:America/New_York
BEGIN:DAYLIGHT
TZOFFSETFROM:-0500
TZOFFSETTO:-0400
TZNAME:EDT
DTSTART:20250309T070000
END:DAYLIGHT
BEGIN:STANDARD
TZOFFSETFROM:-0400
TZOFFSETTO:-0500
TZNAME:EST
DTSTART:20251102T060000
END:STANDARD
BEGIN:DAYLIGHT
TZOFFSETFROM:-0500
TZOFFSETTO:-0400
TZNAME:EDT
DTSTART:20260308T070000
END:DAYLIGHT
BEGIN:STANDARD
TZOFFSETFROM:-0400
TZOFFSETTO:-0500
TZNAME:EST
DTSTART:20261101T060000
END:STANDARD
BEGIN:DAYLIGHT
TZOFFSETFROM:-0500
TZOFFSETTO:-0400
TZNAME:EDT
DTSTART:20270314T070000
END:DAYLIGHT
BEGIN:STANDARD
TZOFFSETFROM:-0400
TZOFFSETTO:-0500
TZNAME:EST
DTSTART:20271107T060000
END:STANDARD
END:VTIMEZONE
BEGIN:VEVENT
DTSTART;TZID=America/New_York:20260411T100000
DTEND;TZID=America/New_York:20260411T120000
DTSTAMP:20260422T093322
CREATED:20250304T155719Z
LAST-MODIFIED:20260318T150219Z
UID:959-1775901600-1775908800@www.salem400.org
SUMMARY:The 389th Anniversary of the First Muster
DESCRIPTION:The 389th Annual First Muster marks another milestone in the living legacy of America’s oldest military tradition. In 1637\, the East Regiment of the Massachusetts Bay Colony assembled on this very ground for the first time — an act that gave birth to what we know today as the National Guard. Salem has never stopped honoring that moment.\nThis year’s commemoration takes on special meaning as part of Salem 400+\, the city’s year-long celebration of 400 years of history\, community\, and resilience. The First Muster is one of the oldest chapters in that story — proof that Salem has always been a place where neighbors stand up\, show up\, and serve.\nCome celebrate Salem’s most historic tradition — and the city proud enough to have started it all.
URL:https://www.salem400.org/event/first-muster/
LOCATION:Salem Common\, N. Washington Square\, Salem\, MA\, 01970\, United States
ATTACH;FMTTYPE=image/jpeg:https://www.salem400.org/wp-content/uploads/2024/04/2013_Salem-Designated-as-the-Official-Birthplace-of-the-National-Guard.jpeg
ORGANIZER;CN="City of Salem":MAILTO:vcherol@salem.com
END:VEVENT
END:VCALENDAR