BEGIN:VCALENDAR
VERSION:2.0
PRODID:-//Salem 400 - ECPv6.15.20//NONSGML v1.0//EN
CALSCALE:GREGORIAN
METHOD:PUBLISH
X-WR-CALNAME:Salem 400
X-ORIGINAL-URL:https://www.salem400.org
X-WR-CALDESC:Events for Salem 400
REFRESH-INTERVAL;VALUE=DURATION:PT1H
X-Robots-Tag:noindex
X-PUBLISHED-TTL:PT1H
BEGIN:VTIMEZONE
TZID:America/New_York
BEGIN:DAYLIGHT
TZOFFSETFROM:-0500
TZOFFSETTO:-0400
TZNAME:EDT
DTSTART:20250309T070000
END:DAYLIGHT
BEGIN:STANDARD
TZOFFSETFROM:-0400
TZOFFSETTO:-0500
TZNAME:EST
DTSTART:20251102T060000
END:STANDARD
BEGIN:DAYLIGHT
TZOFFSETFROM:-0500
TZOFFSETTO:-0400
TZNAME:EDT
DTSTART:20260308T070000
END:DAYLIGHT
BEGIN:STANDARD
TZOFFSETFROM:-0400
TZOFFSETTO:-0500
TZNAME:EST
DTSTART:20261101T060000
END:STANDARD
BEGIN:DAYLIGHT
TZOFFSETFROM:-0500
TZOFFSETTO:-0400
TZNAME:EDT
DTSTART:20270314T070000
END:DAYLIGHT
BEGIN:STANDARD
TZOFFSETFROM:-0400
TZOFFSETTO:-0500
TZNAME:EST
DTSTART:20271107T060000
END:STANDARD
END:VTIMEZONE
BEGIN:VEVENT
DTSTART;TZID=America/New_York:20260308T130000
DTEND;TZID=America/New_York:20260308T150000
DTSTAMP:20260422T130303
CREATED:20260304T204346Z
LAST-MODIFIED:20260304T205118Z
UID:1803-1772974800-1772982000@www.salem400.org
SUMMARY:Film Screening: The Crucible
DESCRIPTION:Register here! \nJoin us for a film screening of a classic work inspired by Salem’s history.  \nIn this 1996 blockbuster starring Winona Ryder and Daniel Day-Lewis and set in 1692\, a Salem resident attempts to frame her ex-lover’s wife as a witch during the Salem Witch Trials. The movie is adapted from Arthur Miller’s play by the same name.  \nIncluded with Admission. Salem residents and people who work in Salem receive free general admission upon presentation of a business card or employee ID at the admissions desk. \nThis film is rated PG-13 and may not be suitable for children.
URL:https://www.salem400.org/event/film-screening-the-crucible/
LOCATION:Peabody Essex Museum\, 161 Essex St.\, Salem\, MA\, 01970\, United States
ATTACH;FMTTYPE=image/jpeg:https://www.salem400.org/wp-content/uploads/2026/03/Ev_TheCrucible_1600_SplitHero-1.jpg
ORGANIZER;CN="Peabody Essex Museum":MAILTO:vcherol@salem.com
END:VEVENT
END:VCALENDAR