BEGIN:VCALENDAR
VERSION:2.0
PRODID:-//Salem 400 - ECPv6.15.20//NONSGML v1.0//EN
CALSCALE:GREGORIAN
METHOD:PUBLISH
X-WR-CALNAME:Salem 400
X-ORIGINAL-URL:https://www.salem400.org
X-WR-CALDESC:Events for Salem 400
REFRESH-INTERVAL;VALUE=DURATION:PT1H
X-Robots-Tag:noindex
X-PUBLISHED-TTL:PT1H
BEGIN:VTIMEZONE
TZID:America/New_York
BEGIN:DAYLIGHT
TZOFFSETFROM:-0500
TZOFFSETTO:-0400
TZNAME:EDT
DTSTART:20250309T070000
END:DAYLIGHT
BEGIN:STANDARD
TZOFFSETFROM:-0400
TZOFFSETTO:-0500
TZNAME:EST
DTSTART:20251102T060000
END:STANDARD
BEGIN:DAYLIGHT
TZOFFSETFROM:-0500
TZOFFSETTO:-0400
TZNAME:EDT
DTSTART:20260308T070000
END:DAYLIGHT
BEGIN:STANDARD
TZOFFSETFROM:-0400
TZOFFSETTO:-0500
TZNAME:EST
DTSTART:20261101T060000
END:STANDARD
BEGIN:DAYLIGHT
TZOFFSETFROM:-0500
TZOFFSETTO:-0400
TZNAME:EDT
DTSTART:20270314T070000
END:DAYLIGHT
BEGIN:STANDARD
TZOFFSETFROM:-0400
TZOFFSETTO:-0500
TZNAME:EST
DTSTART:20271107T060000
END:STANDARD
END:VTIMEZONE
BEGIN:VEVENT
DTSTART;TZID=America/New_York:20260411T130000
DTEND;TZID=America/New_York:20260411T150000
DTSTAMP:20260422T094040
CREATED:20260304T204717Z
LAST-MODIFIED:20260304T204833Z
UID:1806-1775912400-1775919600@www.salem400.org
SUMMARY:Curator Talk - Salem as Muse: Collecting the Globe with George Schwartz
DESCRIPTION:Register here! \nIn 2026\, as part of the Salem 400+ initiative\, PEM will present “Salem as Muse\,” a series of talks that highlight works represented in PEM’s collection. These programs will explore a diverse range of subjects that connect to the unique history and character of Salem\, Massachusetts. Join us for the launch of “Salem as Muse” with George Schwartz\, Curator-at-Large\, who will discuss his book Collecting the Globe.  \nAs the oldest continually operating and collecting museum in the country\, PEM has seen more than two centuries of evolution and innovation since its founding in 1799. Collecting the Globe offers a window into the early days of the museum: “To escape the ‘prosaic streets’ of Salem\, Massachusetts\, in the first half of the 19th century\, local residents and travelers from across the United States and the globe came to the East India Marine Society Museum (1799–1876). Located on the town’s main thoroughfare\, Essex Street\, the museum transported individuals to another world…” \n“It is unheard of to still have the original archival material\, and the collection\, and the permanent home for an early American institution\,” says Schwartz. “You have to use the term ‘unique\,’ because we are the only one.” A comprehensive history offering fresh perspectives on museums and how they helped shape our national identity\, Collecting the Globe explores collecting\, exhibiting and interpreting a diversity of international objects and art in early America. Schwartz\, co-curator of the new installation in the East India Marine Society’s first permanent home\, East India Marine Hall\, aims to capture the dynamic history of one of the most important American museums during a pivotal time when Salem was a leading port and launching point for global trade. \nExplore the hundreds of fascinating objects on view in East India Marine Hall before or after the talk.  \nIncluded with Admission. Salem residents and people who work in Salem receive free general admission upon presentation of a business card or employee ID at the admissions desk; preregistration encouraged. \nThere will be a book signing outside Morse Auditorium after the program. Books can be purchased at the event or in advance from the PEM Shop. \nAbout our presenter: George Schwartz\nGeorge Schwartz has worked on many successful PEM exhibitions and installations\, including curating Conjuring the Spirit World: Art\, Magic\, and Mediums and co-curating the new installation in the museum’s historic East India Marine Hall\, among others. His specialty and interests are in maritime art\, material culture\, early collecting and museum history. Schwartz earned his B.A. in Anthropology from Brown University\, his M.A. in Historical Archaeology from UMASS Boston and his Ph.D. in American and New England Studies from Boston University. He is the editor and lead author of Conjuring the Spirit World: Art\, Magic\, and Mediums (Rizzoli Electa\, 2024)\, which was the gold winner for Foreword Reviews’ 2024 Indie Book of the Year Awards in the Popular Culture category. Schwartz has lectured internationally and has written articles and essays for museum catalogues\, journals and magazines. He is an honorary member of the Salem Marine Society\, and also teaches a course on material culture at Tufts University in the Museum Studies program. \nIncluded with Admission. Salem residents and people who work in Salem receive free general admission upon presentation of a business card or employee ID at the admissions desk; preregistration encouraged.  \nThe talk will be in Morse Auditorium from 1:00 – 3:00 pm. \nThere will be a book signing outside Morse Auditorium after the program. Books can be purchased at the event or in advance from the PEM Shop.
URL:https://www.salem400.org/event/curator-talk-salem-as-muse-collecting-the-globe-with-george-schwartz/
LOCATION:Peabody Essex Museum\, 161 Essex St.\, Salem\, MA\, 01970\, United States
ATTACH;FMTTYPE=image/jpeg:https://www.salem400.org/wp-content/uploads/2026/03/Ev_SalemasMuseCollectingTheGlobe_1600_SplitHero.jpg
ORGANIZER;CN="Peabody Essex Museum":MAILTO:vcherol@salem.com
END:VEVENT
END:VCALENDAR