BEGIN:VCALENDAR
VERSION:2.0
PRODID:-//Salem 400 - ECPv6.15.20//NONSGML v1.0//EN
CALSCALE:GREGORIAN
METHOD:PUBLISH
X-WR-CALNAME:Salem 400
X-ORIGINAL-URL:https://www.salem400.org
X-WR-CALDESC:Events for Salem 400
REFRESH-INTERVAL;VALUE=DURATION:PT1H
X-Robots-Tag:noindex
X-PUBLISHED-TTL:PT1H
BEGIN:VTIMEZONE
TZID:America/New_York
BEGIN:DAYLIGHT
TZOFFSETFROM:-0500
TZOFFSETTO:-0400
TZNAME:EDT
DTSTART:20250309T070000
END:DAYLIGHT
BEGIN:STANDARD
TZOFFSETFROM:-0400
TZOFFSETTO:-0500
TZNAME:EST
DTSTART:20251102T060000
END:STANDARD
BEGIN:DAYLIGHT
TZOFFSETFROM:-0500
TZOFFSETTO:-0400
TZNAME:EDT
DTSTART:20260308T070000
END:DAYLIGHT
BEGIN:STANDARD
TZOFFSETFROM:-0400
TZOFFSETTO:-0500
TZNAME:EST
DTSTART:20261101T060000
END:STANDARD
BEGIN:DAYLIGHT
TZOFFSETFROM:-0500
TZOFFSETTO:-0400
TZNAME:EDT
DTSTART:20270314T070000
END:DAYLIGHT
BEGIN:STANDARD
TZOFFSETFROM:-0400
TZOFFSETTO:-0500
TZNAME:EST
DTSTART:20271107T060000
END:STANDARD
END:VTIMEZONE
BEGIN:VEVENT
DTSTART;TZID=America/New_York:20260203T153000
DTEND;TZID=America/New_York:20260203T170000
DTSTAMP:20260422T144923
CREATED:20260129T184041Z
LAST-MODIFIED:20260129T184114Z
UID:1560-1770132600-1770138000@www.salem400.org
SUMMARY:City of Salem Black History Month Celebration
DESCRIPTION:Join the City of Salem to Celebrate the kickoff of Black History Month!
URL:https://www.salem400.org/event/city-of-salem-black-history-month-celebration/
LOCATION:Old Town Hall\, 32 Derby Square\, Salem\, MA\, 01970\, United States
ATTACH;FMTTYPE=image/jpeg:https://www.salem400.org/wp-content/uploads/2026/01/BHM-Weekend-Flyer-.jpg
ORGANIZER;CN="City of Salem":MAILTO:vcherol@salem.com
END:VEVENT
END:VCALENDAR